BEGIN:VCALENDAR
VERSION:2.0
PRODID:-//Wadsworth Hunt Club - ECPv6.10.2//NONSGML v1.0//EN
CALSCALE:GREGORIAN
METHOD:PUBLISH
X-ORIGINAL-URL:https://wadsworthhuntclub.com
X-WR-CALDESC:Events for Wadsworth Hunt Club
REFRESH-INTERVAL;VALUE=DURATION:PT1H
X-Robots-Tag:noindex
X-PUBLISHED-TTL:PT1H
BEGIN:VTIMEZONE
TZID:America/New_York
BEGIN:DAYLIGHT
TZOFFSETFROM:-0500
TZOFFSETTO:-0400
TZNAME:EDT
DTSTART:20210314T070000
END:DAYLIGHT
BEGIN:STANDARD
TZOFFSETFROM:-0400
TZOFFSETTO:-0500
TZNAME:EST
DTSTART:20211107T060000
END:STANDARD
END:VTIMEZONE
BEGIN:VEVENT
DTSTART;TZID=America/New_York:20211009T050000
DTEND;TZID=America/New_York:20211009T130000
DTSTAMP:20260423T135441
CREATED:20211002T030832Z
LAST-MODIFIED:20211002T030951Z
UID:447-1633755600-1633784400@wadsworthhuntclub.com
SUMMARY:Club Orientation
DESCRIPTION:
URL:https://wadsworthhuntclub.com/event/club-orientation/
LOCATION:OH
END:VEVENT
END:VCALENDAR