BEGIN:VCALENDAR
VERSION:2.0
PRODID:-//Wadsworth Hunt Club - ECPv6.10.2//NONSGML v1.0//EN
CALSCALE:GREGORIAN
METHOD:PUBLISH
X-WR-CALNAME:Wadsworth Hunt Club
X-ORIGINAL-URL:https://wadsworthhuntclub.com
X-WR-CALDESC:Events for Wadsworth Hunt Club
REFRESH-INTERVAL;VALUE=DURATION:PT1H
X-Robots-Tag:noindex
X-PUBLISHED-TTL:PT1H
BEGIN:VTIMEZONE
TZID:America/New_York
BEGIN:DAYLIGHT
TZOFFSETFROM:-0500
TZOFFSETTO:-0400
TZNAME:EDT
DTSTART:20220313T070000
END:DAYLIGHT
BEGIN:STANDARD
TZOFFSETFROM:-0400
TZOFFSETTO:-0500
TZNAME:EST
DTSTART:20221106T060000
END:STANDARD
END:VTIMEZONE
BEGIN:VEVENT
DTSTART;VALUE=DATE:20220928
DTEND;VALUE=DATE:20221003
DTSTAMP:20260421T054436
CREATED:20220317T023457Z
LAST-MODIFIED:20220317T023457Z
UID:925-1664406000-1664751599@wadsworthhuntclub.com
SUMMARY:Youth Hunting Camp
DESCRIPTION:Lake and Trails\nLeesville Lake\, for youth ages 10-17\, time TBA
URL:https://wadsworthhuntclub.com/event/youth-hunting-camp/
LOCATION:Leesville Lake\, OH\, United States
CATEGORIES:Events
END:VEVENT
BEGIN:VEVENT
DTSTART;TZID=America/New_York:20221002T140000
DTEND;TZID=America/New_York:20221002T220000
DTSTAMP:20260421T054436
CREATED:20220726T142533Z
LAST-MODIFIED:20220726T142908Z
UID:1221-1664719200-1664748000@wadsworthhuntclub.com
SUMMARY:Texas Hold'em Poker Tournament
DESCRIPTION:Texas hold’em flyer 2022
URL:https://wadsworthhuntclub.com/event/texas-holdem-poker-tournament/
LOCATION:Wadsworth Eagle’s Club\, 9953 Rittman Rd\, Wadsworth\, OH\, 44281\, United States
CATEGORIES:Events
END:VEVENT
END:VCALENDAR