BEGIN:VCALENDAR
VERSION:2.0
PRODID:-//Wadsworth Hunt Club - ECPv6.10.2//NONSGML v1.0//EN
CALSCALE:GREGORIAN
METHOD:PUBLISH
X-ORIGINAL-URL:https://wadsworthhuntclub.com
X-WR-CALDESC:Events for Wadsworth Hunt Club
REFRESH-INTERVAL;VALUE=DURATION:PT1H
X-Robots-Tag:noindex
X-PUBLISHED-TTL:PT1H
BEGIN:VTIMEZONE
TZID:America/New_York
BEGIN:DAYLIGHT
TZOFFSETFROM:-0500
TZOFFSETTO:-0400
TZNAME:EDT
DTSTART:20220313T070000
END:DAYLIGHT
BEGIN:STANDARD
TZOFFSETFROM:-0400
TZOFFSETTO:-0500
TZNAME:EST
DTSTART:20221106T060000
END:STANDARD
END:VTIMEZONE
BEGIN:VEVENT
DTSTART;TZID=America/New_York:20221105T090000
DTEND;TZID=America/New_York:20221105T130000
DTSTAMP:20260421T040941
CREATED:20220317T023636Z
LAST-MODIFIED:20221031T154354Z
UID:928-1667638800-1667653200@wadsworthhuntclub.com
SUMMARY:Youth Pheasant Hunt
DESCRIPTION:
URL:https://wadsworthhuntclub.com/event/youth-pheasant-hunt/
LOCATION:Kollert Farm\, 2345 Seville Rd\, Wad\, OH\, 44281\, United States
CATEGORIES:Events
END:VEVENT
END:VCALENDAR