BEGIN:VCALENDAR
VERSION:2.0
PRODID:-//Wadsworth Hunt Club - ECPv6.10.2//NONSGML v1.0//EN
CALSCALE:GREGORIAN
METHOD:PUBLISH
X-WR-CALNAME:Wadsworth Hunt Club
X-ORIGINAL-URL:https://wadsworthhuntclub.com
X-WR-CALDESC:Events for Wadsworth Hunt Club
REFRESH-INTERVAL;VALUE=DURATION:PT1H
X-Robots-Tag:noindex
X-PUBLISHED-TTL:PT1H
BEGIN:VTIMEZONE
TZID:America/New_York
BEGIN:DAYLIGHT
TZOFFSETFROM:-0500
TZOFFSETTO:-0400
TZNAME:EDT
DTSTART:20230312T070000
END:DAYLIGHT
BEGIN:STANDARD
TZOFFSETFROM:-0400
TZOFFSETTO:-0500
TZNAME:EST
DTSTART:20231105T060000
END:STANDARD
END:VTIMEZONE
BEGIN:VEVENT
DTSTART;TZID=America/New_York:20231121T180000
DTEND;TZID=America/New_York:20231121T193000
DTSTAMP:20260422T200716
CREATED:20221205T023026Z
LAST-MODIFIED:20231018T191653Z
UID:1480-1700589600-1700595000@wadsworthhuntclub.com
SUMMARY:Board Meeting
DESCRIPTION:
URL:https://wadsworthhuntclub.com/event/board-meeting-14/
LOCATION:Wadsworth Middle School\, 150 Silvercreek Rd.\, Wadsworth\, OH\, 44281\, United States
CATEGORIES:Meeting
END:VEVENT
BEGIN:VEVENT
DTSTART;TZID=America/New_York:20231121T193000
DTEND;TZID=America/New_York:20231121T210000
DTSTAMP:20260422T200716
CREATED:20221205T023026Z
LAST-MODIFIED:20231018T191702Z
UID:1479-1700595000-1700600400@wadsworthhuntclub.com
SUMMARY:Members Meeting
DESCRIPTION:Nominations for open board and officer positions
URL:https://wadsworthhuntclub.com/event/members-meeting-18/
LOCATION:Wadsworth Middle School\, 150 Silvercreek Rd.\, Wadsworth\, OH\, 44281\, United States
CATEGORIES:Meeting
END:VEVENT
END:VCALENDAR