BEGIN:VCALENDAR
VERSION:2.0
PRODID:-//Wadsworth Hunt Club - ECPv6.10.2//NONSGML v1.0//EN
CALSCALE:GREGORIAN
METHOD:PUBLISH
X-WR-CALNAME:Wadsworth Hunt Club
X-ORIGINAL-URL:https://wadsworthhuntclub.com
X-WR-CALDESC:Events for Wadsworth Hunt Club
REFRESH-INTERVAL;VALUE=DURATION:PT1H
X-Robots-Tag:noindex
X-PUBLISHED-TTL:PT1H
BEGIN:VTIMEZONE
TZID:America/New_York
BEGIN:DAYLIGHT
TZOFFSETFROM:-0500
TZOFFSETTO:-0400
TZNAME:EDT
DTSTART:20210314T070000
END:DAYLIGHT
BEGIN:STANDARD
TZOFFSETFROM:-0400
TZOFFSETTO:-0500
TZNAME:EST
DTSTART:20211107T060000
END:STANDARD
END:VTIMEZONE
BEGIN:VEVENT
DTSTART;TZID=America/New_York:20210921T040000
DTEND;TZID=America/New_York:20210921T130000
DTSTAMP:20260421T003105
CREATED:20210921T032531Z
LAST-MODIFIED:20210921T032531Z
UID:388-1632196800-1632229200@wadsworthhuntclub.com
SUMMARY:Meeting at club grounds
DESCRIPTION:
URL:https://wadsworthhuntclub.com/event/meeting-at-club-grounds/
LOCATION:OH
CATEGORIES:Events
END:VEVENT
END:VCALENDAR