BEGIN:VCALENDAR
VERSION:2.0
PRODID:-//Wadsworth Hunt Club - ECPv6.10.2//NONSGML v1.0//EN
CALSCALE:GREGORIAN
METHOD:PUBLISH
X-WR-CALNAME:Wadsworth Hunt Club
X-ORIGINAL-URL:https://wadsworthhuntclub.com
X-WR-CALDESC:Events for Wadsworth Hunt Club
REFRESH-INTERVAL;VALUE=DURATION:PT1H
X-Robots-Tag:noindex
X-PUBLISHED-TTL:PT1H
BEGIN:VTIMEZONE
TZID:America/New_York
BEGIN:DAYLIGHT
TZOFFSETFROM:-0500
TZOFFSETTO:-0400
TZNAME:EDT
DTSTART:20220313T070000
END:DAYLIGHT
BEGIN:STANDARD
TZOFFSETFROM:-0400
TZOFFSETTO:-0500
TZNAME:EST
DTSTART:20221106T060000
END:STANDARD
END:VTIMEZONE
BEGIN:VEVENT
DTSTART;TZID=America/New_York:20220429T133000
DTEND;TZID=America/New_York:20220501T110000
DTSTAMP:20260421T121223
CREATED:20220309T031755Z
LAST-MODIFIED:20220317T020316Z
UID:832-1651239000-1651402800@wadsworthhuntclub.com
SUMMARY:Youth Fishing Camp
DESCRIPTION:
URL:https://wadsworthhuntclub.com/event/2022-youth-fishing-camp/
LOCATION:Camp Muskingum\, 3266 Dyewood Rd SW\, Carrollton\, OH\, 44615\, United States
CATEGORIES:Events
END:VEVENT
BEGIN:VEVENT
DTSTART;TZID=America/New_York:20220514T100000
DTEND;TZID=America/New_York:20220514T160000
DTSTAMP:20260421T121223
CREATED:20220317T022732Z
LAST-MODIFIED:20220421T172359Z
UID:915-1652522400-1652544000@wadsworthhuntclub.com
SUMMARY:Fishing Derby
DESCRIPTION:Venue will be Silvercreek Park
URL:https://wadsworthhuntclub.com/event/fishing-derby/
LOCATION:Silver Creek Metro Park\, 5000 Hametown Rd.\, Norton\, OH\, 44203\, United States
CATEGORIES:Events
END:VEVENT
BEGIN:VEVENT
DTSTART;TZID=America/New_York:20220517T180000
DTEND;TZID=America/New_York:20220517T193000
DTSTAMP:20260421T121223
CREATED:20220317T021441Z
LAST-MODIFIED:20220317T021441Z
UID:900-1652810400-1652815800@wadsworthhuntclub.com
SUMMARY:Board Meeting
DESCRIPTION:
URL:https://wadsworthhuntclub.com/event/members-meeting-2-2/
LOCATION:Wadsworth Hunt Club\, 8445 Leatherman Rd\, Wadsworth\, OH\, 44281\, United States
CATEGORIES:Meeting
END:VEVENT
BEGIN:VEVENT
DTSTART;TZID=America/New_York:20220517T193000
DTEND;TZID=America/New_York:20220517T203000
DTSTAMP:20260421T121223
CREATED:20220317T015843Z
LAST-MODIFIED:20220317T020041Z
UID:883-1652815800-1652819400@wadsworthhuntclub.com
SUMMARY:Members Meeting
DESCRIPTION:
URL:https://wadsworthhuntclub.com/event/members-meeting-3/
LOCATION:Wadsworth Hunt Club\, 8445 Leatherman Rd\, Wadsworth\, OH\, 44281\, United States
CATEGORIES:Meeting
END:VEVENT
END:VCALENDAR