BEGIN:VCALENDAR
VERSION:2.0
PRODID:-//Wadsworth Hunt Club - ECPv6.10.2//NONSGML v1.0//EN
CALSCALE:GREGORIAN
METHOD:PUBLISH
X-ORIGINAL-URL:https://wadsworthhuntclub.com
X-WR-CALDESC:Events for Wadsworth Hunt Club
REFRESH-INTERVAL;VALUE=DURATION:PT1H
X-Robots-Tag:noindex
X-PUBLISHED-TTL:PT1H
BEGIN:VTIMEZONE
TZID:America/New_York
BEGIN:DAYLIGHT
TZOFFSETFROM:-0500
TZOFFSETTO:-0400
TZNAME:EDT
DTSTART:20220313T070000
END:DAYLIGHT
BEGIN:STANDARD
TZOFFSETFROM:-0400
TZOFFSETTO:-0500
TZNAME:EST
DTSTART:20221106T060000
END:STANDARD
END:VTIMEZONE
BEGIN:VEVENT
DTSTART;TZID=America/New_York:20220719T180000
DTEND;TZID=America/New_York:20220719T193000
DTSTAMP:20260421T081557
CREATED:20220317T022146Z
LAST-MODIFIED:20220317T022303Z
UID:902-1658253600-1658259000@wadsworthhuntclub.com
SUMMARY:Board Meeting
DESCRIPTION:
URL:https://wadsworthhuntclub.com/event/members-meeting-2-4/
LOCATION:Wadsworth Hunt Club\, 8445 Leatherman Rd\, Wadsworth\, OH\, 44281\, United States
CATEGORIES:Meeting
END:VEVENT
BEGIN:VEVENT
DTSTART;TZID=America/New_York:20220719T193000
DTEND;TZID=America/New_York:20220719T203000
DTSTAMP:20260421T081557
CREATED:20220317T020535Z
LAST-MODIFIED:20220317T020535Z
UID:884-1658259000-1658262600@wadsworthhuntclub.com
SUMMARY:Members Meeting
DESCRIPTION:
URL:https://wadsworthhuntclub.com/event/members-meeting/
LOCATION:Wadsworth Hunt Club\, 8445 Leatherman Rd\, Wadsworth\, OH\, 44281\, United States
CATEGORIES:Meeting
END:VEVENT
BEGIN:VEVENT
DTSTART;TZID=America/New_York:20220730T090000
DTEND;TZID=America/New_York:20220730T130000
DTSTAMP:20260421T081557
CREATED:20220317T022829Z
LAST-MODIFIED:20220317T022829Z
UID:917-1659171600-1659186000@wadsworthhuntclub.com
SUMMARY:First Shot Program
DESCRIPTION:
URL:https://wadsworthhuntclub.com/event/first-shot-program/
LOCATION:Wadsworth Hunt Club\, 8445 Leatherman Rd\, Wadsworth\, OH\, 44281\, United States
CATEGORIES:Events
END:VEVENT
END:VCALENDAR